Workbook

Sheet CR Template
A1: CODE SITE | B1: Site Name | C1: ACTIVITY حتما شیت اکتیویتی و زمان فعالیت لحاظ شود | D1: توضیحات | E1: Access Start | F1: Time End | G1: ماه میلادی | H1: روز میلادی | I1: نام شرکت | J1: نام پیمانکار | K1: شماره تماس | L1: CR
A2: mhd3412 | B2: =IFERROR(INDEX(SITE!B:B,MATCH('CR Template'!A2,SITE!A:A,0))," ") -> معلم جنوبی | C2: تعویض یونیت | D2: همه چیز داریم صفر تا صد | E2: 09:00 AM | F2: 17:00 PM | G2: 10 | H2: 22 | I2: Fara Jahesh Golestan | J2: =IFERROR(INDEX(Company!A:A,MATCH(I2,Company!C:C,0))," ") -> فراجهش گلستان | K2: =IFERROR(INDEX(Company!B:B,MATCH('CR Template'!I2,Company!C:C,0))," ") -> ۰۹۱۲۳۴۵۶۷۸۹ | L2: CR-261022135211
A3: kh1282 | B3: =IFERROR(INDEX(SITE!B:B,MATCH('CR Template'!A3,SITE!A:A,0))," ") -> Kheradmand | C3: Clean Up | D3: کلین آپ MIMO | E3: 09:00 AM | F3: 17:00 PM | G3: 10 | H3: 1 | I3: Fara Jahesh Golestan | J3: =IFERROR(INDEX(Company!A:A,MATCH(I3,Company!C:C,0))," ") -> Ghasemi | K3: =IFERROR(INDEX(Company!B:B,MATCH('CR Template'!I3,Company!C:C,0))," ") -> 9101569020-9102071774
A4: kh1369 | B4: =IFERROR(INDEX(SITE!B:B,MATCH('CR Template'!A4,SITE!A:A,0))," ") -> Sonboleh | C4: Clean Up | D4: کلین آپ MIMO | E4: 09:00 AM | F4: 17:00 PM | G4: 10 | H4: 1 | I4: Fara Jahesh Golestan | J4: =IFERROR(INDEX(Company!A:A,MATCH(I4,Company!C:C,0))," ") -> Ghasemi | K4: =IFERROR(INDEX(Company!B:B,MATCH('CR Template'!I4,Company!C:C,0))," ") -> 9101569020-9102071774
A5: kh1237 | B5: =IFERROR(INDEX(SITE!B:B,MATCH('CR Template'!A5,SITE!A:A,0))," ") -> Foroozan Far | C5: Clean Up | D5: کلین آپ MIMO | E5: 09:00 AM | F5: 17:00 PM | G5: 10 | H5: 1 | I5: Fara Jahesh Golestan | J5: =IFERROR(INDEX(Company!A:A,MATCH(I5,Company!C:C,0))," ") -> Ghasemi | K5: =IFERROR(INDEX(Company!B:B,MATCH('CR Template'!I5,Company!C:C,0))," ") -> 9101569020-9102071774
A6: kh2621 | B6: =IFERROR(INDEX(SITE!B:B,MATCH('CR Template'!A6,SITE!A:A,0))," ") -> Elham | C6: Clean Up | D6: کلین آپ MIMO | E6: 09:00 AM | F6: 17:00 PM | G6: 10 | H6: 1 | I6: Fara Jahesh Golestan | J6: =IFERROR(INDEX(Company!A:A,MATCH(I6,Company!C:C,0))," ") -> Ghasemi | K6: =IFERROR(INDEX(Company!B:B,MATCH('CR Template'!I6,Company!C:C,0))," ") -> 9101569020-9102071774
A7: kh0945 | B7: =IFERROR(INDEX(SITE!B:B,MATCH('CR Template'!A7,SITE!A:A,0))," ") -> Saba | C7: Clean Up | D7: کلین آپ MIMO | E7: 13:00 PM | F7: 19:00 PM | G7: 10 | H7: 1 | I7: Fara Jahesh Golestan | J7: =IFERROR(INDEX(Company!A:A,MATCH(I7,Company!C:C,0))," ") -> Ghasemi | K7: =IFERROR(INDEX(Company!B:B,MATCH('CR Template'!I7,Company!C:C,0))," ") -> 9101569020-9102071774
A8: kh1411 | B8: =IFERROR(INDEX(SITE!B:B,MATCH('CR Template'!A8,SITE!A:A,0))," ") -> Habibebn Mazaher | C8: Clean Up | D8: کلین آپ MIMO | E8: 13:00 PM | F8: 19:00 PM | G8: 10 | H8: 1 | I8: Fara Jahesh Golestan | J8: =IFERROR(INDEX(Company!A:A,MATCH(I8,Company!C:C,0))," ") -> Ghasemi | K8: =IFERROR(INDEX(Company!B:B,MATCH('CR Template'!I8,Company!C:C,0))," ") -> 9101569020-9102071774
A9: kh0467 | B9: =IFERROR(INDEX(SITE!B:B,MATCH('CR Template'!A9,SITE!A:A,0))," ") -> Sahar | C9: Clean Up | D9: کلین آپ MIMO | E9: 13:00 PM | F9: 19:00 PM | G9: 10 | H9: 1 | I9: Fara Jahesh Golestan | J9: =IFERROR(INDEX(Company!A:A,MATCH(I9,Company!C:C,0))," ") -> Ghasemi | K9: =IFERROR(INDEX(Company!B:B,MATCH('CR Template'!I9,Company!C:C,0))," ") -> 9101569020-9102071774
A10: kh0862 | B10: =IFERROR(INDEX(SITE!B:B,MATCH('CR Template'!A10,SITE!A:A,0))," ") -> Gelayol | C10: Clean Up | D10: کلین آپ MIMO | E10: 13:00 PM | F10: 19:00 PM | G10: 10 | H10: 1 | I10: Fara Jahesh Golestan | J10: =IFERROR(INDEX(Company!A:A,MATCH(I10,Company!C:C,0))," ") -> Ghasemi | K10: =IFERROR(INDEX(Company!B:B,MATCH('CR Template'!I10,Company!C:C,0))," ") -> 9101569020-9102071774
B11: =IFERROR(INDEX(SITE!B:B,MATCH('CR Template'!A11,SITE!A:A,0))," ") | J11: =IFERROR(INDEX(Company!A:A,MATCH(I11,Company!C:C,0))," ") | K11: =IFERROR(INDEX(Company!B:B,MATCH('CR Template'!I11,Company!C:C,0))," ")
A12: kh0743 | B12: =IFERROR(INDEX(SITE!B:B,MATCH('CR Template'!A12,SITE!A:A,0))," ") -> Shahid Fahmideh | C12: Clean Up | D12: کلین آپ MIMO | E12: 09:00 AM | F12: 17:00 PM | G12: 10 | H12: 3 | I12: Fara Jahesh Golestan | J12: =IFERROR(INDEX(Company!A:A,MATCH(I12,Company!C:C,0))," ") -> Ghasemi | K12: =IFERROR(INDEX(Company!B:B,MATCH('CR Template'!I12,Company!C:C,0))," ") -> 9101569020-9102071774
A13: kh1141 | B13: =IFERROR(INDEX(SITE!B:B,MATCH('CR Template'!A13,SITE!A:A,0))," ") -> Sadaf | C13: Clean Up | D13: کلین آپ MIMO | E13: 09:00 AM | F13: 17:00 PM | G13: 10 | H13: 3 | I13: Fara Jahesh Golestan | J13: =IFERROR(INDEX(Company!A:A,MATCH(I13,Company!C:C,0))," ") -> Ghasemi | K13: =IFERROR(INDEX(Company!B:B,MATCH('CR Template'!I13,Company!C:C,0))," ") -> 9101569020-9102071774
B14: =IFERROR(INDEX(SITE!B:B,MATCH('CR Template'!A14,SITE!A:A,0))," ") | J14: =IFERROR(INDEX(Company!A:A,MATCH(I14,Company!C:C,0))," ") | K14: =IFERROR(INDEX(Company!B:B,MATCH('CR Template'!I14,Company!C:C,0))," ")
B15: =IFERROR(INDEX(SITE!B:B,MATCH('CR Template'!A15,SITE!A:A,0))," ") | J15: =IFERROR(INDEX(Company!A:A,MATCH(I15,Company!C:C,0))," ") | K15: =IFERROR(INDEX(Company!B:B,MATCH('CR Template'!I15,Company!C:C,0))," ")
B16: =IFERROR(INDEX(SITE!B:B,MATCH('CR Template'!A16,SITE!A:A,0))," ") | J16: =IFERROR(INDEX(Company!A:A,MATCH(I16,Company!C:C,0))," ") | K16: =IFERROR(INDEX(Company!B:B,MATCH('CR Template'!I16,Company!C:C,0))," ")
B17: =IFERROR(INDEX(SITE!B:B,MATCH('CR Template'!A17,SITE!A:A,0))," ") | J17: =IFERROR(INDEX(Company!A:A,MATCH(I17,Company!C:C,0))," ") | K17: =IFERROR(INDEX(Company!B:B,MATCH('CR Template'!I17,Company!C:C,0))," ")
B18: =IFERROR(INDEX(SITE!B:B,MATCH('CR Template'!A18,SITE!A:A,0))," ") | J18: =IFERROR(INDEX(Company!A:A,MATCH(I18,Company!C:C,0))," ") | K18: =IFERROR(INDEX(Company!B:B,MATCH('CR Template'!I18,Company!C:C,0))," ")
B19: =IFERROR(INDEX(SITE!B:B,MATCH('CR Template'!A19,SITE!A:A,0))," ") | J19: =IFERROR(INDEX(Company!A:A,MATCH(I19,Company!C:C,0))," ") | K19: =IFERROR(INDEX(Company!B:B,MATCH('CR Template'!I19,Company!C:C,0))," ")
B20: =IFERROR(INDEX(SITE!B:B,MATCH('CR Template'!A20,SITE!A:A,0))," ") | J20: =IFERROR(INDEX(Company!A:A,MATCH(I20,Company!C:C,0))," ") | K20: =IFERROR(INDEX(Company!B:B,MATCH('CR Template'!I20,Company!C:C,0))," ")
B21: =IFERROR(INDEX(SITE!B:B,MATCH('CR Template'!A21,SITE!A:A,0))," ") | J21: =IFERROR(INDEX(Company!A:A,MATCH(I21,Company!C:C,0))," ") | K21: =IFERROR(INDEX(Company!B:B,MATCH('CR Template'!I21,Company!C:C,0))," ")
B22: =IFERROR(INDEX(SITE!B:B,MATCH('CR Template'!A22,SITE!A:A,0))," ") | J22: =IFERROR(INDEX(Company!A:A,MATCH(I22,Company!C:C,0))," ") | K22: =IFERROR(INDEX(Company!B:B,MATCH('CR Template'!I22,Company!C:C,0))," ")
B23: =IFERROR(INDEX(SITE!B:B,MATCH('CR Template'!A23,SITE!A:A,0))," ") | J23: =IFERROR(INDEX(Company!A:A,MATCH(I23,Company!C:C,0))," ") | K23: =IFERROR(INDEX(Company!B:B,MATCH('CR Template'!I23,Company!C:C,0))," ")
B24: =IFERROR(INDEX(SITE!B:B,MATCH('CR Template'!A24,SITE!A:A,0))," ") | J24: =IFERROR(INDEX(Company!A:A,MATCH(I24,Company!C:C,0))," ") | K24: =IFERROR(INDEX(Company!B:B,MATCH('CR Template'!I24,Company!C:C,0))," ")
B25: =IFERROR(INDEX(SITE!B:B,MATCH('CR Template'!A25,SITE!A:A,0))," ") | J25: =IFERROR(INDEX(Company!A:A,MATCH(I25,Company!C:C,0))," ") | K25: =IFERROR(INDEX(Company!B:B,MATCH('CR Template'!I25,Company!C:C,0))," ")
... B129: =IFERROR(INDEX(SITE!B:B,MATCH('CR Template'!A129,SITE!A:A,0))," ") | J129: =IFERROR(INDEX(Company!A:A,MATCH(I129,Company!C:C,0))," ") | K129: =IFERROR(INDEX(Company!B:B,MATCH('CR Template'!I129,Company!C:C,0))," ")

Sheet Activity
A1: SDM Change type | B1: Down Time(Min) | C1: نوع فعالیت | E1: Technology
A2: Rectifier Changing | B2: 240 min | C2: تعویض شارژر سایت | E2: 2G-1800 | G2: 06:00 AM | H2: 13:00 PM | I2: 1 | J2: 1 | K2: PH9
A3: Unit Change | B3: 120 min | C3: تعویض یونیت | E3: 2G-900 | G3: 07:00 AM | H3: 14:00 PM | I3: 2 | J3: 2 | K3: USO
A4: Vlan config | B4: 20 min | C4: اضافه کردن VLN برای مسیر انتقال | E4: 3G-2100 | G4: 08:00 AM | H4: 15:00 PM | I4: 3 | J4: 3 | K4: CHANGE_TOWER
A5: Adding RAN Unit | B5: 60 min | C5: اضافه کردن یونیت RAN برای راه اندازی تکنولوژی در سایت | E5: 3G-900 | G5: 09:00 AM | H5: 16:00 PM | I5: 4 | J5: 4 | K5: NOP
A6: BBU SWAP AMIA | B6: 420 min | C6: NOKIA TO AMIA | E6: 4G-1800 | G6: 10:00 AM | H6: 17:00 PM | I6: 5 | J6: 5
A7: BBU SWAP AMIA+ Rack Changing | B7: 420 min | C7: NOKIA TO AMIA | E7: 4G-2100 | G7: 11:00 AM | H7: 18:00 PM | I7: 6 | J7: 6
A8: BBU SWAP AMIA + Antenna Change + Add New Technology | B8: 420 min | C8: NOKIA TO AMIA | E8: 4G-2300 | G8: 13:00 PM | H8: 19:00 PM | I8: 7 | J8: 7
A9: BBU SWAP AMIA+ Rack Changing + Add New Technology | B9: 420 min | C9: NOKIA TO AMIA | E9: 4G-2600 | G9: 14:00 PM | H9: 20:00 PM | I9: 8 | J9: 8
A10: PDB MDB instalation | B10: 120 min | C10: تعویض کنتور، تعویض تابلو برق + نصب کنتور یا نصب تابلوع برق در سایت | E10: 4G-900 | G10: 15:00 PM | H10: 21:00 PM | I10: 9 | J10: 9
A11: SECTOR ADDITION | B11: 180 min | C11: اضافه کردن سکتور چهارم برای سایت | E11: 5G-2300 | G11: 16:00 PM | H11: 22:00 PM | I11: 10 | J11: 10
A12: Site Relocation | B12: 2880 min | C12: تغییر محل سایت به لوکیشن جدید | E12: 5G-3500 | G12: 16:00 PM | H12: 23:00 PM | I12: 11 | J12: 11
A13: Add New Technology | B13: 180 min | C13: اضافه کردن تکنولوژی جدید به سایت | E13: TD-LTE-2300 | I13: 12 | J13: 12
A14: LRAN | B14: 0 min | C14: اضافه کردن VLN برای مسیر انتقال | E14: TD-LTE-2600 | J14: 13
A15: Antenna Change | B15: 300 min | C15: تعویض آنتن GSM | J15: 14
A16: Antenna Change + Add New Technology | B16: 300 min | C16: تعویض آنتن GSM + اضافه کردن تکنولوژی جدید | J16: 15
A17: Azimuth Change | B17: 120 min | C17: تعویض تیلت الکتریکال آنتن | J17: 16
A18: Clean Up | B18: 100 min | C18: مرتب سازی سایت برای ویزیت QA به برا پروژه یتوسعه و تعویض دکل | J18: 17
A19: Cutover MW to Fiber | B19: 120 min | C19: انتقال دیتا از لینک به فیبر | J19: 18
A20: FIBER Change Route | B20: 180 min | C20: تغییر مسیر فیبر | J20: 19
A21: Launch Tech | B21: 180 min | C21: راه اندازی تکنولوژی جدید | J21: 20
A22: LINK Installation Alignment | B22: 120 min | C22: نصب لینک جدید رادیویی | J22: 21
A23: LINK Upgrade | B23: 120 min | C23: ارتقاع ظریفت لینک ماکروویو به صورت نرم افزاری | J23: 22
A24: PDB MDB Installation | B24: 120 min | C24: تعویض کنتور، تعویض تابلو برق + نصب کنتور یا نصب تابلوع برق در سایت | J24: 23
A25: QA | B25: 30 min | C25: ازمایش و تحویل | J25: 24
A26: SWAP MODERNIZATION | B26: 300 min | C26: به روز رسانی تجهیزات سایت از تکنولوژی قدیم به جدید | J26: 25
... A32: ADD Board | B32: 60 min | C32: اضافه کردن بورد ( بیشتر برای ترنسمیشن استفاده میشود ) | J32: 31
A33: Jumper Feeder Change | B33: 240 min | C33: تعویض فیدر و جامپر
A34: Unit Test | B34: 240 min | C34: تست یونیت
A35: BW Expansion | B35: 120 min | C35: ارتقاع ظرفیت فیبر و راه اندازی Core دوم و سوم
A36: Change MW to Fiber | B36: 120 min | C36: انتقال دیتا از ماکروویو به فیبر با تغییر IP
A37: FIBER Change Route | B37: 180 min | C37: تغییر مسیر فیبر
A38: MW change Height | B38: 180 min | C38: تغییر ارتفاع دیش MW
A39: RACK Change LAYOUT | B39: 240 min | C39: تغییر دیزاین داخلی راک
A40: Rectifier Changing | B40: 240 min | C40: تعویض شارژر سایت
A41: REINTEGRATION | B41: 120 min | C41: راه اندازی مجدد سایت جدید
A42: REROUTE MW LINK | B42: 180 min | C42: تغییر مسیر لینک سایت
A43: RRU Cable Change | B43: 120 min | C43: تعویض کابل پاور و فیبر RRU
A44: RRU Change | B44: 240 min | C44: تعویض RRU
... A68: Add New Technology(L900) | B68: 180 min | C68: اضافه کردن تکنولوژی جدید به سایت
A69: Add New Technology( TDD L2300)
A70: QA Mimo
A71: QA BBU SWAP

Sheet SITE
A1: کد سایت | B1: نام سایت لاتین | C1: آدرس | D1: نام سایت | E1: شهرستان
A2: KH0002 | B2: Tollab | C2: مشهد - خیابان گاز شرقی - چهارراه برق - مركز تلفن طلاب | D2: طلاب | E2: مشهد
A3: KH0004 | B3: Silou | C3: مشهد - بلوار راه آهن- داخل محوطه باغ راه آهن | D3: سیلو | E3: مشهد
A4: KH0005 | B4: Hekmat | C4: مشهد - ابتدای خیابان چمران- جنب پارکینگ شهرداری | D4: حكمت | E4: مشهد
A5: KH0006 | B5: Edalat | C5: مشهد - خیابان مصلی مرکز تلفن عدالت | D5: عدالت | E5: مشهد
A6: KH0007 | B6: Emam Khomeini | C6: مشهد- خیابان خواجه ربیع - خیابان آتش نشانی - مركز تلفن امام خمینی | D6: امام خمینی | E6: مشهد
A7: KH0008 | B7: Takhti | C7: مشهد - خ آبکوه - بین فلکه تختی وصاحب الزمان-خیابان منوچهری- واگذاری به مخابرات | D7: تختی | E7: مشهد
A8: KH0009 | B8: Panjtan | C8: مشهد-خ پنجتن-مركز تلفن گلشهر | D8: پنج تن | E8: مشهد
A9: KH0010 | B9: Taha | C9: مشهد - گنبد سبز -کوچه دبیرستان فروغ بعد از دبیرستان پلاک 152- واگذاری به مخابرات | D9: طاها | E9: مشهد
A10: KH0011 | B10: Majlesi | C10: مشهد-بلوار امت -چ مجلسی-بین امت23و24 | D10: مجلسی | E10: مشهد
A11: KH0012 | B11: Kashani | C11: مشهد - سه راه کاشانی جنب پارک داخل کوچه سمت راست منزل سوم- واگذاری به مخابرات | D11: كاشانی | E11: مشهد
A12: KH0013 | B12: Towhid | C12: مشهد - جاده سرخس - شهرک رجائی(ساختمان)مرکز تلفن توحید | D12: توحید | E12: مشهد
... A2379: KH2886 | B2379: Borzesh Abad | C2379: جاده مشهد-کلات،روستای برزش آباد،مخابرات برزش آباد | D2379: برزش آباد | E2379: مشهد

Sheet Company
A1: شرکت | B1: شماره تلفن | C1: NAME | D1: Column1 | E1: نفرات پیمانکاران
A2: Rajaei | B2: 9153177430 | C2: Karamouj | D2: توسعه | E2: حسن دریائی- رضاکوهستانی-حامد تقتمش- امیرخیرآبادی-رضا خوشرو-وحیداسکوئی-فریدصفریان-حسین گلبادی
A3: sherafatnia | B3: 9105509132 | C3: NovinPayedar | D3: توسعه | E3: حسین شرافت نیا-حسین کرد-حامدشقایی-عرفان رضاِیی-مصطفی زاده غلام-حسین رشوی-مجید صفریان -وحید رییس الساداتی
A4: Salimi-MasoudiRad- M.MasoudiRad | B4: 9158089102-9151175081-9155049428 | C4: BehbuodErtebatSadra | D4: توسعه | E4: عدم فعالیت
A5: Amir Ghobad | B5: 9125044215 | C5: Hayat | D5: ناک | E5: عدم فعالیت
A6: Hadi Hoseini | B6: 9158595889 | C6: Respina | D6: ناک | E6: - مصطفی شکوری- مرتضی شکوری- محمد شکوری - حسین ترشیزی
A7: Javad Sayar - RajabZadeh | B7: 9151804009 - 09155299656 | C7: MojErtebatSana | D7: ناک | E7: جواد سیار - مجتبی داروغه - رضا کاظمی - محمد صادق سیف - حسین غلامرضا پور - محمد براتی - ارسلان صادقی - مهسا رجب زاده - محمد رضا صانعی - معین ناجی - سیدرضا نقابت - محمد جعفری -
A8: baghnavi | B8: 9155838466 | C8: SanaPardazesh | D8: ناک | E8: اسکندری - باغنوی - رضا شرافتنیا - محمد صفایی - مهرداد میری
A9: NikPayam | B9: 9159756310 | C9: NikPayam | D9: ناک | E9: عدم فعالیت
A10: Ghasemi | B10: 9101569020-9102071774 | C10: Fara Jahesh Golestan | D10: ناک | E10: محمد قاسمی - عباس الهی - علی کمالی -بهار فیضی - ابوذر احمدی - عبدوالرضا حبیبی - محمد کوشکی
A11: SALARI | B11: 9129092998 | C11: Ertebat Ghostar Aref | D11: هر دو بیشتر توسعه | E11: محبوبه عارفی - حسین سالاری - احسان سردشتی -عباس حداد
A12: RAJAB ZADEH | B12: 9155229363 | C12: Pazhohan system Sepehr | D12: توسعه | E12: محسن عظیمی - امید کهنسال - رضا رستمی -معین ناجی - رضا نقابت
A13: adelpour-shirazi | B13: 9155023771-09155229121 | C13: sinasolartoos | D13: ناک | E13: عدم فعالیت
A14: Vakilnia-Hesari-Gharaei-Hormozi | B14: 9124407145 - 9045433463- 9153432960-9937080249 | C14: Pishro Rahkar | D14: توسعه | E14: وکیل نیا - خانم قرائی - قرائی - هرمزی - اذری - ریاحی
A15: Danesh | B15: 09133264356- 09369120346 | C15: Novin Ertabat sazeh sabat | D15: ناک | E15: سادات - شیرزاد
A16: Morteza Masoudi | B16: 9155745192 | C16: Afrinesh Ertabatat | D16: هر دو بیشتر توسعه | E16: مرتضی مسعودی - محمد ارمان - مجید رجبی - شهرام زائر - سعید دنیا دیده
A17: Alaei | B17: 9153273438 | C17: Navid Pishro Khavaran | D17: توسعه | E17: عدم فعالیت
A18: NAK | B18: 9151047059 | C18: NAZARMORADI
B19: 9154380232 | C19: MEHDI NADERY | D19: MR
A20: - | C20: NAK
A21: - | B21: - | C21: -
B22: 9155164434 | C22: آقای محمدیان | D22: بهینه سازی
